BEGIN:VCALENDAR
VERSION:2.0
PRODID:-//wp-events-plugin.com//7.2.3.1//EN
BEGIN:VEVENT
UID:197@lcyadkinville.com
DTSTART:20260723T183000Z
DTEND:20260725T163000Z
DTSTAMP:20260418T153421Z
URL:https://lcyadkinville.com/events/vacation-bible-school-july-23rd-25th
SUMMARY:Vacation Bible School- July 23rd-25th
DESCRIPTION:
CATEGORIES:One Time Event
END:VEVENT
END:VCALENDAR