BEGIN:VCALENDAR
VERSION:2.0
PRODID:-//wp-events-plugin.com//7.2.3.1//EN
BEGIN:VEVENT
UID:193@lcyadkinville.com
DTSTART:20260510T103000Z
DTEND:20260510T191500Z
DTSTAMP:20260409T003020Z
URL:https://lcyadkinville.com/events/mothers-day-no-pm-service-2
SUMMARY:Mothers Day - (No PM service)
DESCRIPTION:
CATEGORIES:One Time Event
END:VEVENT
END:VCALENDAR