BEGIN:VCALENDAR
VERSION:2.0
PRODID:-//wp-events-plugin.com//7.2.3.1//EN
BEGIN:VEVENT
UID:196@lcyadkinville.com
DTSTART:20260822T070000Z
DTEND:20260822T170000Z
DTSTAMP:20260418T153150Z
URL:https://lcyadkinville.com/events/mens-whitewater-rafting
SUMMARY:Men's Whitewater Rafting
DESCRIPTION:
CATEGORIES:One Time Event
END:VEVENT
END:VCALENDAR