BEGIN:VCALENDAR
VERSION:2.0
PRODID:-//wp-events-plugin.com//7.2.3.1//EN
BEGIN:VEVENT
UID:192@lcyadkinville.com
DTSTART:20260530T090000Z
DTEND:20260530T110000Z
DTSTAMP:20260409T002940Z
URL:https://lcyadkinville.com/events/mens-breakfast-may-30th-9am
SUMMARY:Men's Breakfast - May 30th - 9am
DESCRIPTION:
CATEGORIES:One Time Event
END:VEVENT
END:VCALENDAR