BEGIN:VCALENDAR
VERSION:2.0
PRODID:-//wp-events-plugin.com//7.2.3.1//EN
BEGIN:VEVENT
UID:191@lcyadkinville.com
DTSTART:20260502T110000Z
DTEND:20260502T130000Z
DTSTAMP:20260409T002857Z
URL:https://lcyadkinville.com/events/ladies-brunch-may-2nd-11am
SUMMARY:Ladies Brunch - May 2nd - 11am
DESCRIPTION:
CATEGORIES:One Time Event
END:VEVENT
END:VCALENDAR