BEGIN:VCALENDAR
VERSION:2.0
PRODID:-//wp-events-plugin.com//7.2.3.1//EN
BEGIN:VEVENT
UID:198@lcyadkinville.com
DTSTART:20260621T130000Z
DTEND:20260621T200000Z
DTSTAMP:20260418T160031Z
URL:https://lcyadkinville.com/events/fathers-day-no-pm-service
SUMMARY:Fathers Day - no PM service
DESCRIPTION:
CATEGORIES:One Time Event
END:VEVENT
END:VCALENDAR