BEGIN:VCALENDAR
VERSION:2.0
PRODID:-//wp-events-plugin.com//7.2.3.1//EN
BEGIN:VEVENT
UID:184@lcyadkinville.com
DTSTART:20260601T060000Z
DTEND:20260601T230000Z
DTSTAMP:20251227T204845Z
URL:https://lcyadkinville.com/events/bible-outreach-7
SUMMARY:Bible Outreach
DESCRIPTION:
CATEGORIES:Monthly Event
END:VEVENT
END:VCALENDAR