BEGIN:VCALENDAR
VERSION:2.0
PRODID:-//wp-events-plugin.com//7.2.3.1//EN
BEGIN:VEVENT
UID:183@lcyadkinville.com
DTSTART:20260501T060000Z
DTEND:20260501T230000Z
DTSTAMP:20251227T204733Z
URL:https://lcyadkinville.com/events/bible-outreach-6
SUMMARY:Bible Outreach
DESCRIPTION:
CATEGORIES:Monthly Event
END:VEVENT
END:VCALENDAR